BEGIN:VCALENDAR
VERSION:2.0
PRODID:-//Darlington Volunteer Fire Company - ECPv6.15.20//NONSGML v1.0//EN
CALSCALE:GREGORIAN
METHOD:PUBLISH
X-WR-CALNAME:Darlington Volunteer Fire Company
X-ORIGINAL-URL:https://darlingtonvfc.org
X-WR-CALDESC:Events for Darlington Volunteer Fire Company
REFRESH-INTERVAL;VALUE=DURATION:PT1H
X-Robots-Tag:noindex
X-PUBLISHED-TTL:PT1H
BEGIN:VTIMEZONE
TZID:America/New_York
BEGIN:DAYLIGHT
TZOFFSETFROM:-0500
TZOFFSETTO:-0400
TZNAME:EDT
DTSTART:20240310T070000
END:DAYLIGHT
BEGIN:STANDARD
TZOFFSETFROM:-0400
TZOFFSETTO:-0500
TZNAME:EST
DTSTART:20241103T060000
END:STANDARD
BEGIN:DAYLIGHT
TZOFFSETFROM:-0500
TZOFFSETTO:-0400
TZNAME:EDT
DTSTART:20250309T070000
END:DAYLIGHT
BEGIN:STANDARD
TZOFFSETFROM:-0400
TZOFFSETTO:-0500
TZNAME:EST
DTSTART:20251102T060000
END:STANDARD
BEGIN:DAYLIGHT
TZOFFSETFROM:-0500
TZOFFSETTO:-0400
TZNAME:EDT
DTSTART:20260308T070000
END:DAYLIGHT
BEGIN:STANDARD
TZOFFSETFROM:-0400
TZOFFSETTO:-0500
TZNAME:EST
DTSTART:20261101T060000
END:STANDARD
END:VTIMEZONE
BEGIN:VEVENT
DTSTART;TZID=America/New_York:20251207T080000
DTEND;TZID=America/New_York:20251207T110000
DTSTAMP:20260419T120113
CREATED:20251127T000939Z
LAST-MODIFIED:20251129T125137Z
UID:4786-1765094400-1765105200@darlingtonvfc.org
SUMMARY:Dec 7 Breakfast with Santa and Mrs Claus 8-11am
DESCRIPTION:Dec 7th Breakfast with Santa and Mrs Claus 8-11am at House 1 (Castleton Road).
URL:https://darlingtonvfc.org/event/breakfast-with-santa-and-mrs-claus/
LOCATION:DVFC House 1\, 2600 Castleton Rd\, Darlington\, 21034\, United States
CATEGORIES:Fundraising Events
END:VEVENT
END:VCALENDAR